BEGIN:VCALENDAR
VERSION:2.0
PRODID:-//pretix//Anmeldung.Rote.Tools//
BEGIN:VTIMEZONE
TZID:Europe/Berlin
BEGIN:STANDARD
DTSTART:20001029T040000
RRULE:FREQ=YEARLY;BYDAY=-1SU;BYMONTH=10
TZNAME:CET
TZOFFSETFROM:+0200
TZOFFSETTO:+0100
END:STANDARD
BEGIN:DAYLIGHT
DTSTART:20000326T030000
RRULE:FREQ=YEARLY;BYDAY=-1SU;BYMONTH=3
TZNAME:CEST
TZOFFSETFROM:+0100
TZOFFSETTO:+0200
END:DAYLIGHT
END:VTIMEZONE
BEGIN:VEVENT
UID:pretix-jusos-2025-09-jsag-0@anmeldung.rote.tools
DTSTART;TZID=Europe/Berlin:20250919T183000
DTEND;TZID=Europe/Berlin:20250921T120000
DESCRIPTION:Tickets: https://anmeldung.rote.tools/jusos/2025-09-jsag/\nVera
 nstalter: Jusos
DTSTAMP:20260421T093049Z
LOCATION:Willy-Brandt-Haus\, Wilhelmstr. 141\, 10963 Berlin
SUMMARY:Bundesvernetzung von Azubis und Schülis
END:VEVENT
END:VCALENDAR
